BEGIN:VCALENDAR
VERSION:2.0
PRODID:-//SkillsUSA New Mexico - ECPv6.15.20//NONSGML v1.0//EN
CALSCALE:GREGORIAN
METHOD:PUBLISH
X-WR-CALNAME:SkillsUSA New Mexico
X-ORIGINAL-URL:https://skillsusanm.org
X-WR-CALDESC:Events for SkillsUSA New Mexico
REFRESH-INTERVAL;VALUE=DURATION:PT1H
X-Robots-Tag:noindex
X-PUBLISHED-TTL:PT1H
BEGIN:VTIMEZONE
TZID:UTC
BEGIN:STANDARD
TZOFFSETFROM:+0000
TZOFFSETTO:+0000
TZNAME:UTC
DTSTART:20190101T000000
END:STANDARD
END:VTIMEZONE
BEGIN:VEVENT
DTSTART;VALUE=DATE:20201106
DTEND;VALUE=DATE:20201108
DTSTAMP:20260421T080843
CREATED:20200611T152951Z
LAST-MODIFIED:20200611T153104Z
UID:217802-1604620800-1604793599@skillsusanm.org
SUMMARY:Community Outreach and Leadership Conference (COLC) - (Virtual)
DESCRIPTION:
URL:https://skillsusanm.org/calendar/community-outreach-and-leadership-conference-colc-virtual/
CATEGORIES:Conferences
END:VEVENT
BEGIN:VEVENT
DTSTART;VALUE=DATE:20200914
DTEND;VALUE=DATE:20200917
DTSTAMP:20260421T080843
CREATED:20200611T152254Z
LAST-MODIFIED:20200611T152412Z
UID:217798-1600041600-1600300799@skillsusanm.org
SUMMARY:New Mexico Association for Career and Technical Education (NMACTE) Conference - (Albuquerque)
DESCRIPTION:
URL:https://skillsusanm.org/calendar/new-mexico-association-for-career-and-technical-education-nmacte-conference-albuquerque/
CATEGORIES:Conferences
END:VEVENT
END:VCALENDAR